{"text_format":"1","workbook":"xlsx","n_sheets":2,"sheets":["report","scores"],"not_rendered":{"charts":0,"images":0,"macros":1,"external_links":0,"defined_names":1,"comments":0,"pivot_tables":0},"unopened":[],"bounds":{"document_bytes":16777216,"sheet_cells":100000,"rows_first":2000,"rows_last":500,"rows_between":2000,"halvings":0,"cell_chars":16384,"cell_head_chars":4096},"cells_cut":0,"cells_raw":0,"read":"whole","date_system":"1900"}

{"sheet":"report","index":0,"n_rows":26,"n_cols":7,"rows_kept":26,"cut":false,"hidden":false,"merged":[]}
["#","Competitor Name","Competitor Number","City","State","Score","X's"]
[1,null,null,null,null,{"$f":"VLOOKUP(A2,scores!$A$1:$P$77,15,FALSE)","v":0},{"$f":"VLOOKUP(A2,scores!$A$2:$P$77,16,FALSE)","v":"0 - X"}]
[2,null,null,null,null,{"$f":"VLOOKUP(A3,scores!$A$1:$P$77,15,FALSE)","v":0},{"$f":"VLOOKUP(A3,scores!$A$2:$P$77,16,FALSE)","v":"0 - X"}]
[3,null,null,null,null,{"$f":"VLOOKUP(A4,scores!$A$1:$P$77,15,FALSE)","v":0},{"$f":"VLOOKUP(A4,scores!$A$2:$P$77,16,FALSE)","v":"0 - X"}]
[4,null,null,null,null,{"$f":"VLOOKUP(A5,scores!$A$1:$P$77,15,FALSE)","v":0},{"$f":"VLOOKUP(A5,scores!$A$2:$P$77,16,FALSE)","v":"0 - X"}]
[5,null,null,null,null,{"$f":"VLOOKUP(A6,scores!$A$1:$P$77,15,FALSE)","v":0},{"$f":"VLOOKUP(A6,scores!$A$2:$P$77,16,FALSE)","v":"0 - X"}]
[6,null,null,null,null,{"$f":"VLOOKUP(A7,scores!$A$1:$P$77,15,FALSE)","v":0},{"$f":"VLOOKUP(A7,scores!$A$2:$P$77,16,FALSE)","v":"0 - X"}]
[7,null,null,null,null,{"$f":"VLOOKUP(A8,scores!$A$1:$P$77,15,FALSE)","v":0},{"$f":"VLOOKUP(A8,scores!$A$2:$P$77,16,FALSE)","v":"0 - X"}]
[8,null,null,null,null,{"$f":"VLOOKUP(A9,scores!$A$1:$P$77,15,FALSE)","v":0},{"$f":"VLOOKUP(A9,scores!$A$2:$P$77,16,FALSE)","v":"0 - X"}]
[9,null,null,null,null,{"$f":"VLOOKUP(A10,scores!$A$1:$P$77,15,FALSE)","v":0},{"$f":"VLOOKUP(A10,scores!$A$2:$P$77,16,FALSE)","v":"0 - X"}]
[10,null,null,null,null,{"$f":"VLOOKUP(A11,scores!$A$1:$P$77,15,FALSE)","v":0},{"$f":"VLOOKUP(A11,scores!$A$2:$P$77,16,FALSE)","v":"0 - X"}]
[11,null,null,null,null,{"$f":"VLOOKUP(A12,scores!$A$1:$P$77,15,FALSE)","v":0},{"$f":"VLOOKUP(A12,scores!$A$2:$P$77,16,FALSE)","v":"0 - X"}]
[12,null,null,null,null,{"$f":"VLOOKUP(A13,scores!$A$1:$P$77,15,FALSE)","v":0},{"$f":"VLOOKUP(A13,scores!$A$2:$P$77,16,FALSE)","v":"0 - X"}]
[13,null,null,null,null,{"$f":"VLOOKUP(A14,scores!$A$1:$P$77,15,FALSE)","v":0},{"$f":"VLOOKUP(A14,scores!$A$2:$P$77,16,FALSE)","v":"0 - X"}]
[14,null,null,null,null,{"$f":"VLOOKUP(A15,scores!$A$1:$P$77,15,FALSE)","v":0},{"$f":"VLOOKUP(A15,scores!$A$2:$P$77,16,FALSE)","v":"0 - X"}]
[15,null,null,null,null,{"$f":"VLOOKUP(A16,scores!$A$1:$P$77,15,FALSE)","v":0},{"$f":"VLOOKUP(A16,scores!$A$2:$P$77,16,FALSE)","v":"0 - X"}]
[16,null,null,null,null,{"$f":"VLOOKUP(A17,scores!$A$1:$P$77,15,FALSE)","v":0},{"$f":"VLOOKUP(A17,scores!$A$2:$P$77,16,FALSE)","v":"0 - X"}]
[17,null,null,null,null,{"$f":"VLOOKUP(A18,scores!$A$1:$P$77,15,FALSE)","v":0},{"$f":"VLOOKUP(A18,scores!$A$2:$P$77,16,FALSE)","v":"0 - X"}]
[18,null,null,null,null,{"$f":"VLOOKUP(A19,scores!$A$1:$P$77,15,FALSE)","v":0},{"$f":"VLOOKUP(A19,scores!$A$2:$P$77,16,FALSE)","v":"0 - X"}]
[19,null,null,null,null,{"$f":"VLOOKUP(A20,scores!$A$1:$P$77,15,FALSE)","v":0},{"$f":"VLOOKUP(A20,scores!$A$2:$P$77,16,FALSE)","v":"0 - X"}]
[20,null,null,null,null,{"$f":"VLOOKUP(A21,scores!$A$1:$P$77,15,FALSE)","v":0},{"$f":"VLOOKUP(A21,scores!$A$2:$P$77,16,FALSE)","v":"0 - X"}]
[21,null,null,null,null,{"$f":"VLOOKUP(A22,scores!$A$1:$P$77,15,FALSE)","v":0},{"$f":"VLOOKUP(A22,scores!$A$2:$P$77,16,FALSE)","v":"0 - X"}]
[22,null,null,null,null,{"$f":"VLOOKUP(A23,scores!$A$1:$P$77,15,FALSE)","v":0},{"$f":"VLOOKUP(A23,scores!$A$2:$P$77,16,FALSE)","v":"0 - X"}]
[23,null,null,null,null,{"$f":"VLOOKUP(A24,scores!$A$1:$P$77,15,FALSE)","v":0},{"$f":"VLOOKUP(A24,scores!$A$2:$P$77,16,FALSE)","v":"0 - X"}]
[24,null,null,null,null,{"$f":"VLOOKUP(A25,scores!$A$1:$P$77,15,FALSE)","v":0},{"$f":"VLOOKUP(A25,scores!$A$2:$P$77,16,FALSE)","v":"0 - X"}]
[25,null,null,null,null,{"$f":"VLOOKUP(A26,scores!$A$1:$P$77,15,FALSE)","v":0},{"$f":"VLOOKUP(A26,scores!$A$2:$P$77,16,FALSE)","v":"0 - X"}]

{"sheet":"scores","index":1,"n_rows":76,"n_cols":16,"rows_kept":76,"cut":false,"hidden":false,"merged":[[67,14,69,14],[67,15,69,15],[70,0,72,0],[70,14,72,14],[70,15,72,15],[73,0,75,0],[73,14,75,14],[73,15,75,15],[58,14,60,14],[58,15,60,15],[61,0,63,0],[61,14,63,14],[61,15,63,15],[64,0,66,0],[64,14,66,14],[64,15,66,15],[49,14,51,14],[49,15,51,15],[52,14,54,14],[52,15,54,15],[55,14,57,14],[55,15,57,15],[40,14,42,14],[40,15,42,15],[43,14,45,14],[43,15,45,15],[46,14,48,14],[46,15,48,15],[31,14,33,14],[31,15,33,15],[34,14,36,14],[34,15,36,15],[37,14,39,14],[37,15,39,15],[22,14,24,14],[22,15,24,15],[25,14,27,14],[25,15,27,15],[28,14,30,14],[28,15,30,15],[13,14,15,14],[13,15,15,15],[16,14,18,14],[16,15,18,15],[19,14,21,14],[19,15,21,15],[1,14,3,14],[1,15,3,15],[4,14,6,14],[4,15,6,15],[7,14,9,14],[7,15,9,15],[10,14,12,14],[10,15,12,15],[67,0,69,0],[52,0,54,0],[55,0,57,0],[58,0,60,0],[43,0,45,0],[46,0,48,0],[49,0,51,0],[34,0,36,0],[37,0,39,0],[40,0,42,0],[25,0,27,0],[28,0,30,0],[31,0,33,0],[16,0,18,0],[19,0,21,0],[22,0,24,0],[7,0,9,0],[10,0,12,0],[13,0,15,0],[1,0,3,0],[4,0,6,0]]}
["COMPETITOR #","COF","1","2","3","4","5","6","7","8","9","10","TOTAL","X","SCORE","X'S"]
[1,"SLOW",null,null,null,null,null,null,null,null,null,null,{"$f":"SUM(C2:L2)+scores!$N2*10","v":0},{"$f":"COUNTIF(C2:L2, \"X\")","v":0},{"$f":"SUM(M2:M4)","v":0},{"$f":"CONCATENATE(SUM(N2:N4),\" - X\")","v":"0 - X"}]
[null,"TIMED",null,null,null,null,null,null,null,null,null,null,{"$f":"SUM(C3:L3)+scores!$N3*10","v":0},{"$f":"COUNTIF(C3:L3, \"X\")","v":0}]
[null,"RAPID",null,null,null,null,null,null,null,null,null,null,{"$f":"SUM(C4:L4)+scores!$N4*10","v":0},0,null,{"$f":"CONCATENATE(SUM(N2:N4),\" -x\")","v":"0 -x"}]
[2,"SLOW",null,null,null,null,null,null,null,null,null,null,{"$f":"SUM(C5:L5)+scores!$N5*10","v":0},{"$f":"COUNTIF(C5:L5, \"X\")","v":0},{"$f":"SUM(M5:M7)","v":0},{"$f":"CONCATENATE(SUM(N5:N7),\" - X\")","v":"0 - X"}]
[null,"TIMED",null,null,null,null,null,null,null,null,null,null,{"$f":"SUM(C6:L6)+scores!$N6*10","v":0},{"$f":"COUNTIF(C6:L6, \"X\")","v":0}]
[null,"RAPID",null,null,null,null,null,null,null,null,null,null,{"$f":"SUM(C7:L7)+scores!$N7*10","v":0},0,null,{"$f":"CONCATENATE(SUM(N5:N7),\" -x\")","v":"0 -x"}]
[3,"SLOW",null,null,null,null,null,null,null,null,null,null,{"$f":"SUM(C8:L8)+scores!$N8*10","v":0},{"$f":"COUNTIF(C8:L8, \"X\")","v":0},{"$f":"SUM(M8:M10)","v":0},{"$f":"CONCATENATE(SUM(N8:N10),\" - X\")","v":"0 - X"}]
[null,"TIMED",null,null,null,null,null,null,null,null,null,null,{"$f":"SUM(C9:L9)+scores!$N9*10","v":0},{"$f":"COUNTIF(C9:L9, \"X\")","v":0}]
[null,"RAPID",null,null,null,null,null,null,null,null,null,null,{"$f":"SUM(C10:L10)+scores!$N10*10","v":0},0,null,{"$f":"CONCATENATE(SUM(N8:N10),\" -x\")","v":"0 -x"}]
[4,"SLOW",null,null,null,null,null,null,null,null,null,null,{"$f":"SUM(C11:L11)+scores!$N11*10","v":0},{"$f":"COUNTIF(C11:L11, \"X\")","v":0},{"$f":"SUM(M11:M13)","v":0},{"$f":"CONCATENATE(SUM(N11:N13),\" - X\")","v":"0 - X"}]
[null,"TIMED",null,null,null,null,null,null,null,null,null,null,{"$f":"SUM(C12:L12)+scores!$N12*10","v":0},{"$f":"COUNTIF(C12:L12, \"X\")","v":0}]
[null,"RAPID",null,null,null,null,null,null,null,null,null,null,{"$f":"SUM(C13:L13)+scores!$N13*10","v":0},0,null,{"$f":"CONCATENATE(SUM(N11:N13),\" -x\")","v":"0 -x"}]
[5,"SLOW",null,null,null,null,null,null,null,null,null,null,{"$f":"SUM(C14:L14)+scores!$N14*10","v":0},{"$f":"COUNTIF(C14:L14, \"X\")","v":0},{"$f":"SUM(M14:M16)","v":0},{"$f":"CONCATENATE(SUM(N14:N16),\" - X\")","v":"0 - X"}]
[null,"TIMED",null,null,null,null,null,null,null,null,null,null,{"$f":"SUM(C15:L15)+scores!$N15*10","v":0},{"$f":"COUNTIF(C15:L15, \"X\")","v":0}]
[null,"RAPID",null,null,null,null,null,null,null,null,null,null,{"$f":"SUM(C16:L16)+scores!$N16*10","v":0},0,null,{"$f":"CONCATENATE(SUM(N14:N16),\" -x\")","v":"0 -x"}]
[6,"SLOW",null,null,null,null,null,null,null,null,null,null,{"$f":"SUM(C17:L17)+scores!$N17*10","v":0},{"$f":"COUNTIF(C17:L17, \"X\")","v":0},{"$f":"SUM(M17:M19)","v":0},{"$f":"CONCATENATE(SUM(N17:N19),\" - X\")","v":"0 - X"}]
[null,"TIMED",null,null,null,null,null,null,null,null,null,null,{"$f":"SUM(C18:L18)+scores!$N18*10","v":0},{"$f":"COUNTIF(C18:L18, \"X\")","v":0}]
[null,"RAPID",null,null,null,null,null,null,null,null,null,null,{"$f":"SUM(C19:L19)+scores!$N19*10","v":0},0,null,{"$f":"CONCATENATE(SUM(N17:N19),\" -x\")","v":"0 -x"}]
[7,"SLOW",null,null,null,null,null,null,null,null,null,null,{"$f":"SUM(C20:L20)+scores!$N20*10","v":0},{"$f":"COUNTIF(C20:L20, \"X\")","v":0},{"$f":"SUM(M20:M22)","v":0},{"$f":"CONCATENATE(SUM(N20:N22),\" - X\")","v":"0 - X"}]
[null,"TIMED",null,null,null,null,null,null,null,null,null,null,{"$f":"SUM(C21:L21)+scores!$N21*10","v":0},{"$f":"COUNTIF(C21:L21, \"X\")","v":0}]
[null,"RAPID",null,null,null,null,null,null,null,null,null,null,{"$f":"SUM(C22:L22)+scores!$N22*10","v":0},0,null,{"$f":"CONCATENATE(SUM(N20:N22),\" -x\")","v":"0 -x"}]
[8,"SLOW",null,null,null,null,null,null,null,null,null,null,{"$f":"SUM(C23:L23)+scores!$N23*10","v":0},{"$f":"COUNTIF(C23:L23, \"X\")","v":0},{"$f":"SUM(M23:M25)","v":0},{"$f":"CONCATENATE(SUM(N23:N25),\" - X\")","v":"0 - X"}]
[null,"TIMED",null,null,null,null,null,null,null,null,null,null,{"$f":"SUM(C24:L24)+scores!$N24*10","v":0},{"$f":"COUNTIF(C24:L24, \"X\")","v":0}]
[null,"RAPID",null,null,null,null,null,null,null,null,null,null,{"$f":"SUM(C25:L25)+scores!$N25*10","v":0},0,null,{"$f":"CONCATENATE(SUM(N23:N25),\" -x\")","v":"0 -x"}]
[9,"SLOW",null,null,null,null,null,null,null,null,null,null,{"$f":"SUM(C26:L26)+scores!$N26*10","v":0},{"$f":"COUNTIF(C26:L26, \"X\")","v":0},{"$f":"SUM(M26:M28)","v":0},{"$f":"CONCATENATE(SUM(N26:N28),\" - X\")","v":"0 - X"}]
[null,"TIMED",null,null,null,null,null,null,null,null,null,null,{"$f":"SUM(C27:L27)+scores!$N27*10","v":0},{"$f":"COUNTIF(C27:L27, \"X\")","v":0}]
[null,"RAPID",null,null,null,null,null,null,null,null,null,null,{"$f":"SUM(C28:L28)+scores!$N28*10","v":0},0,null,{"$f":"CONCATENATE(SUM(N26:N28),\" -x\")","v":"0 -x"}]
[10,"SLOW",null,null,null,null,null,null,null,null,null,null,{"$f":"SUM(C29:L29)+scores!$N29*10","v":0},{"$f":"COUNTIF(C29:L29, \"X\")","v":0},{"$f":"SUM(M29:M31)","v":0},{"$f":"CONCATENATE(SUM(N29:N31),\" - X\")","v":"0 - X"}]
[null,"TIMED",null,null,null,null,null,null,null,null,null,null,{"$f":"SUM(C30:L30)+scores!$N30*10","v":0},{"$f":"COUNTIF(C30:L30, \"X\")","v":0}]
[null,"RAPID",null,null,null,null,null,null,null,null,null,null,{"$f":"SUM(C31:L31)+scores!$N31*10","v":0},0,null,{"$f":"CONCATENATE(SUM(N29:N31),\" -x\")","v":"0 -x"}]
[11,"SLOW",null,null,null,null,null,null,null,null,null,null,{"$f":"SUM(C32:L32)+scores!$N32*10","v":0},{"$f":"COUNTIF(C32:L32, \"X\")","v":0},{"$f":"SUM(M32:M34)","v":0},{"$f":"CONCATENATE(SUM(N32:N34),\" - X\")","v":"0 - X"}]
[null,"TIMED",null,null,null,null,null,null,null,null,null,null,{"$f":"SUM(C33:L33)+scores!$N33*10","v":0},{"$f":"COUNTIF(C33:L33, \"X\")","v":0}]
[null,"RAPID",null,null,null,null,null,null,null,null,null,null,{"$f":"SUM(C34:L34)+scores!$N34*10","v":0},0,null,{"$f":"CONCATENATE(SUM(N32:N34),\" -x\")","v":"0 -x"}]
[12,"SLOW",null,null,null,null,null,null,null,null,null,null,{"$f":"SUM(C35:L35)+scores!$N35*10","v":0},{"$f":"COUNTIF(C35:L35, \"X\")","v":0},{"$f":"SUM(M35:M37)","v":0},{"$f":"CONCATENATE(SUM(N35:N37),\" - X\")","v":"0 - X"}]
[null,"TIMED",null,null,null,null,null,null,null,null,null,null,{"$f":"SUM(C36:L36)+scores!$N36*10","v":0},{"$f":"COUNTIF(C36:L36, \"X\")","v":0}]
[null,"RAPID",null,null,null,null,null,null,null,null,null,null,{"$f":"SUM(C37:L37)+scores!$N37*10","v":0},0,null,{"$f":"CONCATENATE(SUM(N35:N37),\" -x\")","v":"0 -x"}]
[13,"SLOW",null,null,null,null,null,null,null,null,null,null,{"$f":"SUM(C38:L38)+scores!$N38*10","v":0},{"$f":"COUNTIF(C38:L38, \"X\")","v":0},{"$f":"SUM(M38:M40)","v":0},{"$f":"CONCATENATE(SUM(N38:N40),\" - X\")","v":"0 - X"}]
[null,"TIMED",null,null,null,null,null,null,null,null,null,null,{"$f":"SUM(C39:L39)+scores!$N39*10","v":0},{"$f":"COUNTIF(C39:L39, \"X\")","v":0}]
[null,"RAPID",null,null,null,null,null,null,null,null,null,null,{"$f":"SUM(C40:L40)+scores!$N40*10","v":0},0,null,{"$f":"CONCATENATE(SUM(N38:N40),\" -x\")","v":"0 -x"}]
[14,"SLOW",null,null,null,null,null,null,null,null,null,null,{"$f":"SUM(C41:L41)+scores!$N41*10","v":0},{"$f":"COUNTIF(C41:L41, \"X\")","v":0},{"$f":"SUM(M41:M43)","v":0},{"$f":"CONCATENATE(SUM(N41:N43),\" - X\")","v":"0 - X"}]
[null,"TIMED",null,null,null,null,null,null,null,null,null,null,{"$f":"SUM(C42:L42)+scores!$N42*10","v":0},{"$f":"COUNTIF(C42:L42, \"X\")","v":0}]
[null,"RAPID",null,null,null,null,null,null,null,null,null,null,{"$f":"SUM(C43:L43)+scores!$N43*10","v":0},0,null,{"$f":"CONCATENATE(SUM(N41:N43),\" -x\")","v":"0 -x"}]
[15,"SLOW",null,null,null,null,null,null,null,null,null,null,{"$f":"SUM(C44:L44)+scores!$N44*10","v":0},{"$f":"COUNTIF(C44:L44, \"X\")","v":0},{"$f":"SUM(M44:M46)","v":0},{"$f":"CONCATENATE(SUM(N44:N46),\" - X\")","v":"0 - X"}]
[null,"TIMED",null,null,null,null,null,null,null,null,null,null,{"$f":"SUM(C45:L45)+scores!$N45*10","v":0},{"$f":"COUNTIF(C45:L45, \"X\")","v":0}]
[null,"RAPID",null,null,null,null,null,null,null,null,null,null,{"$f":"SUM(C46:L46)+scores!$N46*10","v":0},0,null,{"$f":"CONCATENATE(SUM(N44:N46),\" -x\")","v":"0 -x"}]
[16,"SLOW",null,null,null,null,null,null,null,null,null,null,{"$f":"SUM(C47:L47)+scores!$N47*10","v":0},{"$f":"COUNTIF(C47:L47, \"X\")","v":0},{"$f":"SUM(M47:M49)","v":0},{"$f":"CONCATENATE(SUM(N47:N49),\" - X\")","v":"0 - X"}]
[null,"TIMED",null,null,null,null,null,null,null,null,null,null,{"$f":"SUM(C48:L48)+scores!$N48*10","v":0},{"$f":"COUNTIF(C48:L48, \"X\")","v":0}]
[null,"RAPID",null,null,null,null,null,null,null,null,null,null,{"$f":"SUM(C49:L49)+scores!$N49*10","v":0},0,null,{"$f":"CONCATENATE(SUM(N47:N49),\" -x\")","v":"0 -x"}]
[17,"SLOW",null,null,null,null,null,null,null,null,null,null,{"$f":"SUM(C50:L50)+scores!$N50*10","v":0},{"$f":"COUNTIF(C50:L50, \"X\")","v":0},{"$f":"SUM(M50:M52)","v":0},{"$f":"CONCATENATE(SUM(N50:N52),\" - X\")","v":"0 - X"}]
[null,"TIMED",null,null,null,null,null,null,null,null,null,null,{"$f":"SUM(C51:L51)+scores!$N51*10","v":0},{"$f":"COUNTIF(C51:L51, \"X\")","v":0}]
[null,"RAPID",null,null,null,null,null,null,null,null,null,null,{"$f":"SUM(C52:L52)+scores!$N52*10","v":0},0,null,{"$f":"CONCATENATE(SUM(N50:N52),\" -x\")","v":"0 -x"}]
[18,"SLOW",null,null,null,null,null,null,null,null,null,null,{"$f":"SUM(C53:L53)+scores!$N53*10","v":0},{"$f":"COUNTIF(C53:L53, \"X\")","v":0},{"$f":"SUM(M53:M55)","v":0},{"$f":"CONCATENATE(SUM(N53:N55),\" - X\")","v":"0 - X"}]
[null,"TIMED",null,null,null,null,null,null,null,null,null,null,{"$f":"SUM(C54:L54)+scores!$N54*10","v":0},{"$f":"COUNTIF(C54:L54, \"X\")","v":0}]
[null,"RAPID",null,null,null,null,null,null,null,null,null,null,{"$f":"SUM(C55:L55)+scores!$N55*10","v":0},0,null,{"$f":"CONCATENATE(SUM(N53:N55),\" -x\")","v":"0 -x"}]
[19,"SLOW",null,null,null,null,null,null,null,null,null,null,{"$f":"SUM(C56:L56)+scores!$N56*10","v":0},{"$f":"COUNTIF(C56:L56, \"X\")","v":0},{"$f":"SUM(M56:M58)","v":0},{"$f":"CONCATENATE(SUM(N56:N58),\" - X\")","v":"0 - X"}]
[null,"TIMED",null,null,null,null,null,null,null,null,null,null,{"$f":"SUM(C57:L57)+scores!$N57*10","v":0},{"$f":"COUNTIF(C57:L57, \"X\")","v":0}]
[null,"RAPID",null,null,null,null,null,null,null,null,null,null,{"$f":"SUM(C58:L58)+scores!$N58*10","v":0},0,null,{"$f":"CONCATENATE(SUM(N56:N58),\" -x\")","v":"0 -x"}]
[20,"SLOW",null,null,null,null,null,null,null,null,null,null,{"$f":"SUM(C59:L59)+scores!$N59*10","v":0},{"$f":"COUNTIF(C59:L59, \"X\")","v":0},{"$f":"SUM(M59:M61)","v":0},{"$f":"CONCATENATE(SUM(N59:N61),\" - X\")","v":"0 - X"}]
[null,"TIMED",null,null,null,null,null,null,null,null,null,null,{"$f":"SUM(C60:L60)+scores!$N60*10","v":0},{"$f":"COUNTIF(C60:L60, \"X\")","v":0}]
[null,"RAPID",null,null,null,null,null,null,null,null,null,null,{"$f":"SUM(C61:L61)+scores!$N61*10","v":0},0,null,{"$f":"CONCATENATE(SUM(N59:N61),\" -x\")","v":"0 -x"}]
[21,"SLOW",null,null,null,null,null,null,null,null,null,null,{"$f":"SUM(C62:L62)+scores!$N62*10","v":0},{"$f":"COUNTIF(C62:L62, \"X\")","v":0},{"$f":"SUM(M62:M64)","v":0},{"$f":"CONCATENATE(SUM(N62:N64),\" - X\")","v":"0 - X"}]
[null,"TIMED",null,null,null,null,null,null,null,null,null,null,{"$f":"SUM(C63:L63)+scores!$N63*10","v":0},{"$f":"COUNTIF(C63:L63, \"X\")","v":0}]
[null,"RAPID",null,null,null,null,null,null,null,null,null,null,{"$f":"SUM(C64:L64)+scores!$N64*10","v":0},0,null,{"$f":"CONCATENATE(SUM(N62:N64),\" -x\")","v":"0 -x"}]
[22,"SLOW",null,null,null,null,null,null,null,null,null,null,{"$f":"SUM(C65:L65)+scores!$N65*10","v":0},{"$f":"COUNTIF(C65:L65, \"X\")","v":0},{"$f":"SUM(M65:M67)","v":0},{"$f":"CONCATENATE(SUM(N65:N67),\" - X\")","v":"0 - X"}]
[null,"TIMED",null,null,null,null,null,null,null,null,null,null,{"$f":"SUM(C66:L66)+scores!$N66*10","v":0},{"$f":"COUNTIF(C66:L66, \"X\")","v":0}]
[null,"RAPID",null,null,null,null,null,null,null,null,null,null,{"$f":"SUM(C67:L67)+scores!$N67*10","v":0},0,null,{"$f":"CONCATENATE(SUM(N65:N67),\" -x\")","v":"0 -x"}]
[23,"SLOW",null,null,null,null,null,null,null,null,null,null,{"$f":"SUM(C68:L68)+scores!$N68*10","v":0},{"$f":"COUNTIF(C68:L68, \"X\")","v":0},{"$f":"SUM(M68:M70)","v":0},{"$f":"CONCATENATE(SUM(N68:N70),\" - X\")","v":"0 - X"}]
[null,"TIMED",null,null,null,null,null,null,null,null,null,null,{"$f":"SUM(C69:L69)+scores!$N69*10","v":0},{"$f":"COUNTIF(C69:L69, \"X\")","v":0}]
[null,"RAPID",null,null,null,null,null,null,null,null,null,null,{"$f":"SUM(C70:L70)+scores!$N70*10","v":0},0,null,{"$f":"CONCATENATE(SUM(N68:N70),\" -x\")","v":"0 -x"}]
[24,"SLOW",null,null,null,null,null,null,null,null,null,null,{"$f":"SUM(C71:L71)+scores!$N71*10","v":0},{"$f":"COUNTIF(C71:L71, \"X\")","v":0},{"$f":"SUM(M71:M73)","v":0},{"$f":"CONCATENATE(SUM(N71:N73),\" - X\")","v":"0 - X"}]
[null,"TIMED",null,null,null,null,null,null,null,null,null,null,{"$f":"SUM(C72:L72)+scores!$N72*10","v":0},{"$f":"COUNTIF(C72:L72, \"X\")","v":0}]
[null,"RAPID",null,null,null,null,null,null,null,null,null,null,{"$f":"SUM(C73:L73)+scores!$N73*10","v":0},0,null,{"$f":"CONCATENATE(SUM(N71:N73),\" -x\")","v":"0 -x"}]
[25,"SLOW",null,null,null,null,null,null,null,null,null,null,{"$f":"SUM(C74:L74)+scores!$N74*10","v":0},{"$f":"COUNTIF(C74:L74, \"X\")","v":0},{"$f":"SUM(M74:M76)","v":0},{"$f":"CONCATENATE(SUM(N74:N76),\" - X\")","v":"0 - X"}]
[null,"TIMED",null,null,null,null,null,null,null,null,null,null,{"$f":"SUM(C75:L75)+scores!$N75*10","v":0},{"$f":"COUNTIF(C75:L75, \"X\")","v":0}]
[null,"RAPID",null,null,null,null,null,null,null,null,null,null,{"$f":"SUM(C76:L76)+scores!$N76*10","v":0},0,null,{"$f":"CONCATENATE(SUM(N74:N76),\" -x\")","v":"0 -x"}]